BEGIN:VCALENDAR
VERSION:2.0
PRODID:-//Agricultural Communicators Network - ECPv6.15.20//NONSGML v1.0//EN
CALSCALE:GREGORIAN
METHOD:PUBLISH
X-ORIGINAL-URL:https://agcommnetwork.com
X-WR-CALDESC:Events for Agricultural Communicators Network
REFRESH-INTERVAL;VALUE=DURATION:PT1H
X-Robots-Tag:noindex
X-PUBLISHED-TTL:PT1H
BEGIN:VTIMEZONE
TZID:America/Chicago
BEGIN:DAYLIGHT
TZOFFSETFROM:-0600
TZOFFSETTO:-0500
TZNAME:CDT
DTSTART:20250309T080000
END:DAYLIGHT
BEGIN:STANDARD
TZOFFSETFROM:-0500
TZOFFSETTO:-0600
TZNAME:CST
DTSTART:20251102T070000
END:STANDARD
BEGIN:DAYLIGHT
TZOFFSETFROM:-0600
TZOFFSETTO:-0500
TZNAME:CDT
DTSTART:20260308T080000
END:DAYLIGHT
BEGIN:STANDARD
TZOFFSETFROM:-0500
TZOFFSETTO:-0600
TZNAME:CST
DTSTART:20261101T070000
END:STANDARD
BEGIN:DAYLIGHT
TZOFFSETFROM:-0600
TZOFFSETTO:-0500
TZNAME:CDT
DTSTART:20270314T080000
END:DAYLIGHT
BEGIN:STANDARD
TZOFFSETFROM:-0500
TZOFFSETTO:-0600
TZNAME:CST
DTSTART:20271107T070000
END:STANDARD
END:VTIMEZONE
BEGIN:VEVENT
DTSTART;TZID=America/Chicago:20260514T120000
DTEND;TZID=America/Chicago:20260514T130000
DTSTAMP:20260421T103234
CREATED:20260326T190149Z
LAST-MODIFIED:20260419T023951Z
UID:6934-1778760000-1778763600@agcommnetwork.com
SUMMARY:Webinar: Unlocking IFAJ - Your ACN Global Benefits Explained
DESCRIPTION:Learn More & Register
URL:https://agcommnetwork.com/event/webinar-ai-in-journalism/
CATEGORIES:Webinars
ATTACH;FMTTYPE=image/jpeg:https://agcommnetwork.com/wp-content/uploads/2026/03/Webinar-12-2-25-Facebook-Post-1.jpg
END:VEVENT
BEGIN:VEVENT
DTSTART;VALUE=DATE:20260719
DTEND;VALUE=DATE:20260722
DTSTAMP:20260421T103234
CREATED:20251222T225013Z
LAST-MODIFIED:20260417T232835Z
UID:92-1784419200-1784678399@agcommnetwork.com
SUMMARY:Ag Media Summit 2026
DESCRIPTION:Save the Date for AMS 2026\n\n\n\nJuly 19-21\, 2026 in St. Louis\, Missouri at the Hyatt Regency St. Louis at The Arch \n\n\n\nWatch the Ag Media Summit website for further information to be released. \n\n\n\nRegister for AMS\n\nBe a Sponsor at AMS\n\n\n\n\n\n\n\n\n\nAbout AMS\n\n\n\nThe Agricultural Media Summit began in 1999\, and is the largest gathering of the agriculture industry’s top writers\, editors\, photographers\, publishers and strategic communicators in the U.S. Providing opportunities for professional development and industry networking\, Ag Media Summit is brought to you by the Livestock Publications Council (LPC)\, the Agricultural Communicators Network (ACN)\, and the Ag Media Council. \n\n\n\nFive Reasons to Attend Ag Media Summit\n\n\n\n\nOpportunities to network with industry leaders and peers.\n\n\n\nSharpen existing skills and learn new ones.\n\n\n\nConnect with companies at the InfoExpo Trade Show.\n\n\n\nExplore St. Louis’ agriculture sector during pre-conference tours.\n\n\n\nCelebrate ag media’s best and brightest at the annual awards banquet.\n\n\n\n\nThank You for Attending AMS 2025 in Arkansas\n\n\n\nWith 425+ attendees\, 30+ speakers\, 20+ sponsors\, and 25+ exhibitors\, we had a great time with everyone in St. Louis! \n\n\n\nView the 2025 AMS Photos
URL:https://agcommnetwork.com/event/ag-media-summit-2026/
LOCATION:Hyatt Regency St. Louis at The Arch\, 315 Chestnut St\, St. Louis\, MO\, 63102\, United States
CATEGORIES:Ag Media Summit
ATTACH;FMTTYPE=image/jpeg:https://agcommnetwork.com/wp-content/uploads/2025/12/AMS-Final-RGB-01.jpg
END:VEVENT
BEGIN:VEVENT
DTSTART;TZID=America/Chicago:20260916T000000
DTEND;TZID=America/Chicago:20260920T235959
DTSTAMP:20260421T103234
CREATED:20260123T154253Z
LAST-MODIFIED:20260317T221911Z
UID:846-1789516800-1789948799@agcommnetwork.com
SUMMARY:IFAJ Congress 2026
DESCRIPTION:2026 IFAJ Congress Registration is Open\n\n\n\nThe Croatian Agricultural Journalists’ Association (DANH\, abbreviation of Društvo agrarnih novinara Hrvatske) registration is open for the 2026 IFAJ Congress. \n\n\n\n\n\n\n\n\n\n\n\n\nMain Congress in and around Osijek\, Slavonia and Baranja (9/16 – 9/20) – €1090 \n\n\n\nPre-Congress tour of Varaždin County (9/13 – 9/16) – €190\n\n\n\nPost-Congress tour of Istria County (9/20 – 9/22) – €315\n\n\n\nPost-Congress tour of Zadar County (9/20 – 9/22) – €315\n\n\n\n\nVisit the website for more details\, including early bird discounts. \n\n\n\nVisit the IFAJ Congress Croatia Site \n\n\n\nACN’s Professional Improvement Foundation has once again granted the international committee money for travel stipends. Watch future announcements for application details. \n\n\n\nThe Ag Communicators Network is a full association member of the International Federation of Ag Journalists (IFAJ)\, making all ACN members also members of IFAJ. \n\n\n\n\n\n\n\n\n\nIFAJ Congress 2026 Croatia\n\n\n\nSeptember 16-20 2026 \n\n\n\n\n\n\n  \n\n\n\n\n\n\nScheduled to take place in Osijek in September 2026\, the IFAJ Congress will bring together over 200 agricultural journalists from IFAJ’s 62 member countries. \n\n\n\nIt will be the first time Croatia has hosted the event since IFAJ was founded in 1956. The programme will include excursion trips to Istria and Dalmatia\, tailored to participants’ interests. The Congress is being organized by the Croatian guild DANH and IFAJ\, with HAPIH (the Croatian Agency for Agriculture and Food) supporting the event as an official partner. \n\n\n\nRegister for IFAJ\n\n\n\nACN Delegation to Kenya 2025\n\n\n\n\n\n\n\nThe ACN Professional Improvement Foundation awarded eight $1\,500 stipends to help cover expenses for ACN members to attend the IFAJ 2025 Congress in Kenya. \n\n\n\nThirteen individuals applied for PIF funding to help cover expenses to attend the IFAJ Congress. Eight $1\,500 travel stipends were awarded: Andy Castillo-Farm Progress\, Bill Spiegel-Freelance\, Jake Zajkowski-Freelance\, Jordan Reynolds-Successful Farming\, Megan Silveira-Angus Journal\, Wyatt Bechtel-Broadhead\, Chelsea Dinterman-Successful Farming (as Young Leader nominee)\, and Katie Knapp-Freelance (as committee chair). \n\n\n\nEach awardee publishes an article in The Byline about their experience.
URL:https://agcommnetwork.com/event/ifaj-congress-2026/
CATEGORIES:IFAJ Congress
ATTACH;FMTTYPE=image/jpeg:https://agcommnetwork.com/wp-content/uploads/2026/01/IFAJ-JOURNALISTS-including-the-author-at-The-Great-Rift.-Pictured-left-to-right-Ben-Eagle-U.K.-Jacob-Zajkowski-Megan-Silveira-Andy-Luiza-Cardoso-Brazil.jpg
END:VEVENT
END:VCALENDAR