BEGIN:VCALENDAR
VERSION:2.0
PRODID:-//Agricultural Communicators Network - ECPv6.15.20//NONSGML v1.0//EN
CALSCALE:GREGORIAN
METHOD:PUBLISH
X-WR-CALNAME:Agricultural Communicators Network
X-ORIGINAL-URL:https://agcommnetwork.com
X-WR-CALDESC:Events for Agricultural Communicators Network
REFRESH-INTERVAL;VALUE=DURATION:PT1H
X-Robots-Tag:noindex
X-PUBLISHED-TTL:PT1H
BEGIN:VTIMEZONE
TZID:America/Chicago
BEGIN:DAYLIGHT
TZOFFSETFROM:-0600
TZOFFSETTO:-0500
TZNAME:CDT
DTSTART:20250309T080000
END:DAYLIGHT
BEGIN:STANDARD
TZOFFSETFROM:-0500
TZOFFSETTO:-0600
TZNAME:CST
DTSTART:20251102T070000
END:STANDARD
BEGIN:DAYLIGHT
TZOFFSETFROM:-0600
TZOFFSETTO:-0500
TZNAME:CDT
DTSTART:20260308T080000
END:DAYLIGHT
BEGIN:STANDARD
TZOFFSETFROM:-0500
TZOFFSETTO:-0600
TZNAME:CST
DTSTART:20261101T070000
END:STANDARD
BEGIN:DAYLIGHT
TZOFFSETFROM:-0600
TZOFFSETTO:-0500
TZNAME:CDT
DTSTART:20270314T080000
END:DAYLIGHT
BEGIN:STANDARD
TZOFFSETFROM:-0500
TZOFFSETTO:-0600
TZNAME:CST
DTSTART:20271107T070000
END:STANDARD
END:VTIMEZONE
BEGIN:VEVENT
DTSTART;VALUE=DATE:20260719
DTEND;VALUE=DATE:20260722
DTSTAMP:20260420T112540
CREATED:20251222T225013Z
LAST-MODIFIED:20260417T232835Z
UID:92-1784419200-1784678399@agcommnetwork.com
SUMMARY:Ag Media Summit 2026
DESCRIPTION:Save the Date for AMS 2026\n\n\n\nJuly 19-21\, 2026 in St. Louis\, Missouri at the Hyatt Regency St. Louis at The Arch \n\n\n\nWatch the Ag Media Summit website for further information to be released. \n\n\n\nRegister for AMS\n\nBe a Sponsor at AMS\n\n\n\n\n\n\n\n\n\nAbout AMS\n\n\n\nThe Agricultural Media Summit began in 1999\, and is the largest gathering of the agriculture industry’s top writers\, editors\, photographers\, publishers and strategic communicators in the U.S. Providing opportunities for professional development and industry networking\, Ag Media Summit is brought to you by the Livestock Publications Council (LPC)\, the Agricultural Communicators Network (ACN)\, and the Ag Media Council. \n\n\n\nFive Reasons to Attend Ag Media Summit\n\n\n\n\nOpportunities to network with industry leaders and peers.\n\n\n\nSharpen existing skills and learn new ones.\n\n\n\nConnect with companies at the InfoExpo Trade Show.\n\n\n\nExplore St. Louis’ agriculture sector during pre-conference tours.\n\n\n\nCelebrate ag media’s best and brightest at the annual awards banquet.\n\n\n\n\nThank You for Attending AMS 2025 in Arkansas\n\n\n\nWith 425+ attendees\, 30+ speakers\, 20+ sponsors\, and 25+ exhibitors\, we had a great time with everyone in St. Louis! \n\n\n\nView the 2025 AMS Photos
URL:https://agcommnetwork.com/event/ag-media-summit-2026/
LOCATION:Hyatt Regency St. Louis at The Arch\, 315 Chestnut St\, St. Louis\, MO\, 63102\, United States
CATEGORIES:Ag Media Summit
ATTACH;FMTTYPE=image/jpeg:https://agcommnetwork.com/wp-content/uploads/2025/12/AMS-Final-RGB-01.jpg
END:VEVENT
END:VCALENDAR